BEGIN:VCALENDAR
VERSION:2.0
PRODID:-//GAP Ticino - ECPv6.15.12.2//NONSGML v1.0//EN
CALSCALE:GREGORIAN
METHOD:PUBLISH
X-ORIGINAL-URL:https://gapticino.ch
X-WR-CALDESC:Eventi per GAP Ticino
REFRESH-INTERVAL;VALUE=DURATION:PT1H
X-Robots-Tag:noindex
X-PUBLISHED-TTL:PT1H
BEGIN:VTIMEZONE
TZID:UTC
BEGIN:STANDARD
TZOFFSETFROM:+0000
TZOFFSETTO:+0000
TZNAME:UTC
DTSTART:20230101T000000
END:STANDARD
END:VTIMEZONE
BEGIN:VEVENT
DTSTART;TZID=UTC:20241111T150000
DTEND;TZID=UTC:20241111T170000
DTSTAMP:20260420T061759
CREATED:20231119T202310Z
LAST-MODIFIED:20240924T150803Z
UID:96909-1731337200-1731344400@gapticino.ch
SUMMARY:Castagnata
DESCRIPTION:
URL:https://gapticino.ch/evento/castagnata/
ATTACH;FMTTYPE=image/jpeg:https://gapticino.ch/wp-content/uploads/2023/11/Castagnata.jpg
END:VEVENT
END:VCALENDAR