BEGIN:VCALENDAR
VERSION:2.0
PRODID:-//GAP Ticino - ECPv6.15.12.2//NONSGML v1.0//EN
CALSCALE:GREGORIAN
METHOD:PUBLISH
X-WR-CALNAME:GAP Ticino
X-ORIGINAL-URL:https://gapticino.ch
X-WR-CALDESC:Eventi per GAP Ticino
REFRESH-INTERVAL;VALUE=DURATION:PT1H
X-Robots-Tag:noindex
X-PUBLISHED-TTL:PT1H
BEGIN:VTIMEZONE
TZID:UTC
BEGIN:STANDARD
TZOFFSETFROM:+0000
TZOFFSETTO:+0000
TZNAME:UTC
DTSTART:20230101T000000
END:STANDARD
END:VTIMEZONE
BEGIN:VEVENT
DTSTART;TZID=UTC:20240521T080000
DTEND;TZID=UTC:20240521T170000
DTSTAMP:20260422T225533
CREATED:20231117T172733Z
LAST-MODIFIED:20240226T123332Z
UID:96882-1716278400-1716310800@gapticino.ch
SUMMARY:Alla scoperta di San Gallo
DESCRIPTION:
URL:https://gapticino.ch/evento/alla-scoperta-di-san-gallo/
LOCATION:San Gallo\, Klosterhof\, San Gallo\, 9000\, Svizzera
ATTACH;FMTTYPE=image/jpeg:https://gapticino.ch/wp-content/uploads/2023/11/cathedral-of-st-4553647_1280.jpg
END:VEVENT
END:VCALENDAR